BEGIN:VCALENDAR
VERSION:2.0
PRODID:-//hacksw/handcal//NONSGML v1.0//EN
BEGIN:VEVENT
SUMMARY:Regionaux JS
UID:94c5a415-5a0e-4716-a60b-0361543fd33b
DTSTART:20260619T220000Z
DTEND:20260621T220000Z
LOCATION:Localisation   
CATEGORIES:Sportif
STATUS:
URL;VALUE=URI:https://www.stadelavalloisnatation.com/evenements/2026/06/20/regionaux-js-2426932
END:VEVENT
END:VCALENDAR
