BEGIN:VCALENDAR
VERSION:2.0
PRODID:-//hacksw/handcal//NONSGML v1.0//EN
BEGIN:VEVENT
SUMMARY:Coupe de la ligue des departements Avenirs
UID:04666b27-f587-4017-a62d-d64de9bd2785
DTSTART:20260613T220000Z
DTEND:20260614T220000Z
LOCATION:Localisation   
CATEGORIES:Sportif
STATUS:
URL;VALUE=URI:https://www.stadelavalloisnatation.com/evenements/2026/06/14/coupe-de-la-ligue-des-departements-avenirs-2426935
END:VEVENT
END:VCALENDAR
