BEGIN:VCALENDAR
VERSION:2.0
PRODID:-//hacksw/handcal//NONSGML v1.0//EN
BEGIN:VEVENT
SUMMARY:Finale IC Benjamins a CHalonnes
UID:ab1fab96-74ed-4cf7-9a6d-fe14209efd92
DTSTART:20260612T220000Z
DTEND:20260613T220000Z
LOCATION:Localisation   
CATEGORIES:Sportif
STATUS:
URL;VALUE=URI:https://www.stadelavalloisnatation.com/evenements/2026/06/13/finale-ic-benjamins-a-chalonnes-2426934
END:VEVENT
END:VCALENDAR
